BEGIN:VCALENDAR
VERSION:2.0
PRODID:JMS Hockey
X-PUBLISHED-TTL:P1W
BEGIN:VEVENT
UID:69e7cb95912cf
DTSTART:20131116T032000Z
SEQUENCE:0
TRANSP:OPAQUE
DTEND:20131116T045000Z
URL:http://jmshockey.com/games/5626
LOCATION:Doug Woog Arena (Wakota)
SUMMARY:Upper Level Game at Doug Woog Arena (Wakota)
CLASS:PUBLIC
DTSTAMP:20260421T141013Z
END:VEVENT
END:VCALENDAR