BEGIN:VCALENDAR
VERSION:2.0
PRODID:JMS Hockey
X-PUBLISHED-TTL:P1W
BEGIN:VEVENT
UID:69e795bac1aec
DTSTART:20131112T032000Z
SEQUENCE:0
TRANSP:OPAQUE
DTEND:20131112T045000Z
URL:http://jmshockey.com/games/5624
LOCATION:Doug Woog Arena (Wakota)
SUMMARY:Lower Level Game at Doug Woog Arena (Wakota)
CLASS:PUBLIC
DTSTAMP:20260421T102026Z
END:VEVENT
END:VCALENDAR