BEGIN:VCALENDAR
VERSION:2.0
PRODID:JMS Hockey
X-PUBLISHED-TTL:P1W
BEGIN:VEVENT
UID:69e7d2d156b28
DTSTART:20131107T032000Z
SEQUENCE:0
TRANSP:OPAQUE
DTEND:20131107T045000Z
URL:http://jmshockey.com/games/5622
LOCATION:Doug Woog Arena (Wakota)
SUMMARY:Level 3 Game at Doug Woog Arena (Wakota)
CLASS:PUBLIC
DTSTAMP:20260421T144105Z
END:VEVENT
END:VCALENDAR