BEGIN:VCALENDAR
VERSION:2.0
PRODID:JMS Hockey
X-PUBLISHED-TTL:P1W
BEGIN:VEVENT
UID:69e7af290453b
DTSTART:20131010T015000Z
SEQUENCE:0
TRANSP:OPAQUE
DTEND:20131010T032000Z
URL:http://jmshockey.com/games/5615
LOCATION:Doug Woog Arena (Wakota)
SUMMARY:Level 3 Game at Doug Woog Arena (Wakota)
CLASS:PUBLIC
DTSTAMP:20260421T120857Z
END:VEVENT
END:VCALENDAR