BEGIN:VCALENDAR
VERSION:2.0
PRODID:JMS Hockey
X-PUBLISHED-TTL:P1W
BEGIN:VEVENT
UID:69e7a311b82b5
DTSTART:20130928T011000Z
SEQUENCE:0
TRANSP:OPAQUE
DTEND:20130928T024000Z
URL:http://jmshockey.com/games/5609
LOCATION:Doug Woog Arena (Wakota)
SUMMARY:Intermediate Game at Doug Woog Arena (Wakota)
CLASS:PUBLIC
DTSTAMP:20260421T111721Z
END:VEVENT
END:VCALENDAR