BEGIN:VCALENDAR
VERSION:2.0
PRODID:JMS Hockey
X-PUBLISHED-TTL:P1W
BEGIN:VEVENT
UID:69e7bf8c88b19
DTSTART:20131001T021500Z
SEQUENCE:0
TRANSP:OPAQUE
DTEND:20131001T034500Z
URL:http://jmshockey.com/games/5607
LOCATION:Maple Grove
SUMMARY:Lower Level Game at Maple Grove
CLASS:PUBLIC
DTSTAMP:20260421T131852Z
END:VEVENT
END:VCALENDAR