BEGIN:VCALENDAR
VERSION:2.0
PRODID:JMS Hockey
X-PUBLISHED-TTL:P1W
BEGIN:VEVENT
UID:69e7d48c5109f
DTSTART:20130924T024000Z
SEQUENCE:0
TRANSP:OPAQUE
DTEND:20130924T041000Z
URL:http://jmshockey.com/games/5604
LOCATION:Doug Woog Arena (Wakota)
SUMMARY:Lower Level Game at Doug Woog Arena (Wakota)
CLASS:PUBLIC
DTSTAMP:20260421T144828Z
END:VEVENT
END:VCALENDAR