BEGIN:VCALENDAR
VERSION:2.0
PRODID:JMS Hockey
X-PUBLISHED-TTL:P1W
BEGIN:VEVENT
UID:69e7b105153b0
DTSTART:20130917T024000Z
SEQUENCE:0
TRANSP:OPAQUE
DTEND:20130917T041000Z
URL:http://jmshockey.com/games/5596
LOCATION:St Thomas Ice Arena
SUMMARY:Elite Game at St Thomas Ice Arena
CLASS:PUBLIC
DTSTAMP:20260421T121653Z
END:VEVENT
END:VCALENDAR