BEGIN:VCALENDAR
VERSION:2.0
PRODID:JMS Hockey
X-PUBLISHED-TTL:P1W
BEGIN:VEVENT
UID:69e7c369b15a3
DTSTART:20140106T040000Z
SEQUENCE:0
TRANSP:OPAQUE
DTEND:20140106T053000Z
URL:http://jmshockey.com/games/5591
LOCATION:Minnehaha Academy
SUMMARY:All level Game at Minnehaha Academy
CLASS:PUBLIC
DTSTAMP:20260421T133521Z
END:VEVENT
END:VCALENDAR