BEGIN:VCALENDAR
VERSION:2.0
PRODID:JMS Hockey
X-PUBLISHED-TTL:P1W
BEGIN:VEVENT
UID:69e7b59010dfd
DTSTART:20131209T024500Z
SEQUENCE:0
TRANSP:OPAQUE
DTEND:20131209T041500Z
URL:http://jmshockey.com/games/5583
LOCATION:Minnehaha Academy
SUMMARY:All level Game at Minnehaha Academy
CLASS:PUBLIC
DTSTAMP:20260421T123616Z
END:VEVENT
END:VCALENDAR