BEGIN:VCALENDAR
VERSION:2.0
PRODID:JMS Hockey
X-PUBLISHED-TTL:P1W
BEGIN:VEVENT
UID:69e7d25d5c47a
DTSTART:20131212T034500Z
SEQUENCE:0
TRANSP:OPAQUE
DTEND:20131212T051500Z
URL:http://jmshockey.com/games/5573
LOCATION:Victory Memorial (VMIA)
SUMMARY:Elite Game at Victory Memorial (VMIA)
CLASS:PUBLIC
DTSTAMP:20260421T143909Z
END:VEVENT
END:VCALENDAR