BEGIN:VCALENDAR
VERSION:2.0
PRODID:JMS Hockey
X-PUBLISHED-TTL:P1W
BEGIN:VEVENT
UID:69e7e9e32edbc
DTSTART:20140128T034500Z
SEQUENCE:0
TRANSP:OPAQUE
DTEND:20140128T051500Z
URL:http://jmshockey.com/games/5551
LOCATION:Northeast Arena
SUMMARY:Intermediate Game at Northeast Arena
CLASS:PUBLIC
DTSTAMP:20260421T161931Z
END:VEVENT
END:VCALENDAR