BEGIN:VCALENDAR
VERSION:2.0
PRODID:JMS Hockey
X-PUBLISHED-TTL:P1W
BEGIN:VEVENT
UID:69e79a1b87e8b
DTSTART:20131231T033000Z
SEQUENCE:0
TRANSP:OPAQUE
DTEND:20131231T050000Z
URL:http://jmshockey.com/games/5550
LOCATION:Northeast Arena
SUMMARY:Intermediate Game at Northeast Arena
CLASS:PUBLIC
DTSTAMP:20260421T103907Z
END:VEVENT
END:VCALENDAR