BEGIN:VCALENDAR
VERSION:2.0
PRODID:JMS Hockey
X-PUBLISHED-TTL:P1W
BEGIN:VEVENT
UID:69e7f956a7172
DTSTART:20131210T034500Z
SEQUENCE:0
TRANSP:OPAQUE
DTEND:20131210T051500Z
URL:http://jmshockey.com/games/5549
LOCATION:Northeast Arena
SUMMARY:Intermediate Game at Northeast Arena
CLASS:PUBLIC
DTSTAMP:20260421T172526Z
END:VEVENT
END:VCALENDAR