BEGIN:VCALENDAR
VERSION:2.0
PRODID:JMS Hockey
X-PUBLISHED-TTL:P1W
BEGIN:VEVENT
UID:69e7d4994b38f
DTSTART:20131112T040000Z
SEQUENCE:0
TRANSP:OPAQUE
DTEND:20131112T053000Z
URL:http://jmshockey.com/games/5546
LOCATION:Northeast Arena
SUMMARY:Intermediate Game at Northeast Arena
CLASS:PUBLIC
DTSTAMP:20260421T144841Z
END:VEVENT
END:VCALENDAR