BEGIN:VCALENDAR
VERSION:2.0
PRODID:JMS Hockey
X-PUBLISHED-TTL:P1W
BEGIN:VEVENT
UID:69e7a312b760c
DTSTART:20131217T035000Z
SEQUENCE:0
TRANSP:OPAQUE
DTEND:20131217T052000Z
URL:http://jmshockey.com/games/5542
LOCATION:St Thomas Ice Arena
SUMMARY:Elite Game at St Thomas Ice Arena
CLASS:PUBLIC
DTSTAMP:20260421T111722Z
END:VEVENT
END:VCALENDAR