BEGIN:VCALENDAR
VERSION:2.0
PRODID:JMS Hockey
X-PUBLISHED-TTL:P1W
BEGIN:VEVENT
UID:69e7dda3bbb0d
DTSTART:20131206T034000Z
SEQUENCE:0
TRANSP:OPAQUE
DTEND:20131206T051000Z
URL:http://jmshockey.com/games/5540
LOCATION:St Thomas Ice Arena
SUMMARY:All level Game at St Thomas Ice Arena
CLASS:PUBLIC
DTSTAMP:20260421T152715Z
END:VEVENT
END:VCALENDAR