BEGIN:VCALENDAR
VERSION:2.0
PRODID:JMS Hockey
X-PUBLISHED-TTL:P1W
BEGIN:VEVENT
UID:69e8d997afc7a
DTSTART:20090516T004500Z
SEQUENCE:0
TRANSP:OPAQUE
DTEND:20090516T021500Z
URL:http://jmshockey.com/games/554
LOCATION:Breck Anderson Arena
SUMMARY:Level 5 Game at Breck Anderson Arena
CLASS:PUBLIC
DTSTAMP:20260422T092215Z
END:VEVENT
END:VCALENDAR