BEGIN:VCALENDAR
VERSION:2.0
PRODID:JMS Hockey
X-PUBLISHED-TTL:P1W
BEGIN:VEVENT
UID:69e7b99c836c7
DTSTART:20131122T034000Z
SEQUENCE:0
TRANSP:OPAQUE
DTEND:20131122T051000Z
URL:http://jmshockey.com/games/5538
LOCATION:St Thomas Ice Arena
SUMMARY:All level Game at St Thomas Ice Arena
CLASS:PUBLIC
DTSTAMP:20260421T125332Z
END:VEVENT
END:VCALENDAR