BEGIN:VCALENDAR
VERSION:2.0
PRODID:JMS Hockey
X-PUBLISHED-TTL:P1W
BEGIN:VEVENT
UID:69e7a3094b76b
DTSTART:20131101T024500Z
SEQUENCE:0
TRANSP:OPAQUE
DTEND:20131101T041500Z
URL:http://jmshockey.com/games/5533
LOCATION:St Thomas Ice Arena
SUMMARY:All level Game at St Thomas Ice Arena
CLASS:PUBLIC
DTSTAMP:20260421T111713Z
END:VEVENT
END:VCALENDAR