BEGIN:VCALENDAR
VERSION:2.0
PRODID:JMS Hockey
X-PUBLISHED-TTL:P1W
BEGIN:VEVENT
UID:69e7d4732a13a
DTSTART:20131018T024000Z
SEQUENCE:0
TRANSP:OPAQUE
DTEND:20131018T041000Z
URL:http://jmshockey.com/games/5529
LOCATION:St Thomas Ice Arena
SUMMARY:All level Game at St Thomas Ice Arena
CLASS:PUBLIC
DTSTAMP:20260421T144803Z
END:VEVENT
END:VCALENDAR