BEGIN:VCALENDAR
VERSION:2.0
PRODID:JMS Hockey
X-PUBLISHED-TTL:P1W
BEGIN:VEVENT
UID:69e7c5047c16f
DTSTART:20131219T033000Z
SEQUENCE:0
TRANSP:OPAQUE
DTEND:20131219T050000Z
URL:http://jmshockey.com/games/5523
LOCATION:Maple Grove
SUMMARY:Level 3 Game at Maple Grove
CLASS:PUBLIC
DTSTAMP:20260421T134212Z
END:VEVENT
END:VCALENDAR