BEGIN:VCALENDAR
VERSION:2.0
PRODID:JMS Hockey
X-PUBLISHED-TTL:P1W
BEGIN:VEVENT
UID:69e7c31b5d4c3
DTSTART:20131212T033000Z
SEQUENCE:0
TRANSP:OPAQUE
DTEND:20131212T050000Z
URL:http://jmshockey.com/games/5520
LOCATION:Maple Grove
SUMMARY:Level 3 Game at Maple Grove
CLASS:PUBLIC
DTSTAMP:20260421T133403Z
END:VEVENT
END:VCALENDAR