BEGIN:VCALENDAR
VERSION:2.0
PRODID:JMS Hockey
X-PUBLISHED-TTL:P1W
BEGIN:VEVENT
UID:69e7a77449f95
DTSTART:20131114T033000Z
SEQUENCE:0
TRANSP:OPAQUE
DTEND:20131114T050000Z
URL:http://jmshockey.com/games/5514
LOCATION:Maple Grove
SUMMARY:Level 3 Game at Maple Grove
CLASS:PUBLIC
DTSTAMP:20260421T113604Z
END:VEVENT
END:VCALENDAR