BEGIN:VCALENDAR
VERSION:2.0
PRODID:JMS Hockey
X-PUBLISHED-TTL:P1W
BEGIN:VEVENT
UID:69e7a337bf75e
DTSTART:20131005T021500Z
SEQUENCE:0
TRANSP:OPAQUE
DTEND:20131005T034500Z
URL:http://jmshockey.com/games/5493
LOCATION:Parade Ice Gardens
SUMMARY:Elite Game at Parade Ice Gardens
CLASS:PUBLIC
DTSTAMP:20260421T111759Z
END:VEVENT
END:VCALENDAR