BEGIN:VCALENDAR
VERSION:2.0
PRODID:JMS Hockey
X-PUBLISHED-TTL:P1W
BEGIN:VEVENT
UID:69e7b5431f533
DTSTART:20090516T021500Z
SEQUENCE:0
TRANSP:OPAQUE
DTEND:20090516T034500Z
URL:http://jmshockey.com/games/549
LOCATION:New Hope Ice Arena
SUMMARY:Level 2 Game at New Hope Ice Arena
CLASS:PUBLIC
DTSTAMP:20260421T123459Z
END:VEVENT
END:VCALENDAR