BEGIN:VCALENDAR
VERSION:2.0
PRODID:JMS Hockey
X-PUBLISHED-TTL:P1W
BEGIN:VEVENT
UID:69e7c4f018a35
DTSTART:20131115T021500Z
SEQUENCE:0
TRANSP:OPAQUE
DTEND:20131115T031500Z
URL:http://jmshockey.com/games/5488
LOCATION:Parade Ice Gardens
SUMMARY:Lower Level Game at Parade Ice Gardens
CLASS:PUBLIC
DTSTAMP:20260421T134152Z
END:VEVENT
END:VCALENDAR