BEGIN:VCALENDAR
VERSION:2.0
PRODID:JMS Hockey
X-PUBLISHED-TTL:P1W
BEGIN:VEVENT
UID:69e7c3536406d
DTSTART:20131204T040000Z
SEQUENCE:0
TRANSP:OPAQUE
DTEND:20131204T053000Z
URL:http://jmshockey.com/games/5476
LOCATION:Polar Arena
SUMMARY:Upper Level Game at Polar Arena
CLASS:PUBLIC
DTSTAMP:20260421T133459Z
END:VEVENT
END:VCALENDAR