BEGIN:VCALENDAR
VERSION:2.0
PRODID:JMS Hockey
X-PUBLISHED-TTL:P1W
BEGIN:VEVENT
UID:69e7c376e2425
DTSTART:20131106T040000Z
SEQUENCE:0
TRANSP:OPAQUE
DTEND:20131106T053000Z
URL:http://jmshockey.com/games/5470
LOCATION:Polar Arena
SUMMARY:Upper Level Game at Polar Arena
CLASS:PUBLIC
DTSTAMP:20260421T133534Z
END:VEVENT
END:VCALENDAR