BEGIN:VCALENDAR
VERSION:2.0
PRODID:JMS Hockey
X-PUBLISHED-TTL:P1W
BEGIN:VEVENT
UID:69e7ae8d58cf5
DTSTART:20131030T020000Z
SEQUENCE:0
TRANSP:OPAQUE
DTEND:20131030T033000Z
URL:http://jmshockey.com/games/5468
LOCATION:Polar Arena
SUMMARY:Upper Level Game at Polar Arena
CLASS:PUBLIC
DTSTAMP:20260421T120621Z
END:VEVENT
END:VCALENDAR