BEGIN:VCALENDAR
VERSION:2.0
PRODID:JMS Hockey
X-PUBLISHED-TTL:P1W
BEGIN:VEVENT
UID:69e7d495ed80f
DTSTART:20131206T034500Z
SEQUENCE:0
TRANSP:OPAQUE
DTEND:20131206T051500Z
URL:http://jmshockey.com/games/5459
LOCATION:Apple Valley Sports Arena
SUMMARY:Upper Level Game at Apple Valley Sports Arena
CLASS:PUBLIC
DTSTAMP:20260421T144837Z
END:VEVENT
END:VCALENDAR