BEGIN:VCALENDAR
VERSION:2.0
PRODID:JMS Hockey
X-PUBLISHED-TTL:P1W
BEGIN:VEVENT
UID:69e7a73d66577
DTSTART:20131127T034500Z
SEQUENCE:0
TRANSP:OPAQUE
DTEND:20131127T051500Z
URL:http://jmshockey.com/games/5457
LOCATION:Apple Valley Sports Arena
SUMMARY:Lower Level Game at Apple Valley Sports Arena
CLASS:PUBLIC
DTSTAMP:20260421T113509Z
END:VEVENT
END:VCALENDAR