BEGIN:VCALENDAR
VERSION:2.0
PRODID:JMS Hockey
X-PUBLISHED-TTL:P1W
BEGIN:VEVENT
UID:69e7ad77eeb42
DTSTART:20131025T023000Z
SEQUENCE:0
TRANSP:OPAQUE
DTEND:20131025T040000Z
URL:http://jmshockey.com/games/5449
LOCATION:Apple Valley Sports Arena
SUMMARY:Upper Level Game at Apple Valley Sports Arena
CLASS:PUBLIC
DTSTAMP:20260421T120143Z
END:VEVENT
END:VCALENDAR