BEGIN:VCALENDAR
VERSION:2.0
PRODID:JMS Hockey
X-PUBLISHED-TTL:P1W
BEGIN:VEVENT
UID:69e81389dd773
DTSTART:20131113T031500Z
SEQUENCE:0
TRANSP:OPAQUE
DTEND:20131113T044500Z
URL:http://jmshockey.com/games/5437
LOCATION:St Louis Park Rec Center
SUMMARY:Level 4 Game at St Louis Park Rec Center
CLASS:PUBLIC
DTSTAMP:20260421T191713Z
END:VEVENT
END:VCALENDAR