BEGIN:VCALENDAR
VERSION:2.0
PRODID:JMS Hockey
X-PUBLISHED-TTL:P1W
BEGIN:VEVENT
UID:69e79d7a9f26b
DTSTART:20131106T034500Z
SEQUENCE:0
TRANSP:OPAQUE
DTEND:20131106T051500Z
URL:http://jmshockey.com/games/5435
LOCATION:St Louis Park Rec Center
SUMMARY:Level 4 Game at St Louis Park Rec Center
CLASS:PUBLIC
DTSTAMP:20260421T105330Z
END:VEVENT
END:VCALENDAR