BEGIN:VCALENDAR
VERSION:2.0
PRODID:JMS Hockey
X-PUBLISHED-TTL:P1W
BEGIN:VEVENT
UID:69e7cb5967fe0
DTSTART:20131102T024500Z
SEQUENCE:0
TRANSP:OPAQUE
DTEND:20131102T041500Z
URL:http://jmshockey.com/games/5434
LOCATION:St Louis Park Rec Center
SUMMARY:Upper Level Game at St Louis Park Rec Center
CLASS:PUBLIC
DTSTAMP:20260421T140913Z
END:VEVENT
END:VCALENDAR