BEGIN:VCALENDAR
VERSION:2.0
PRODID:JMS Hockey
X-PUBLISHED-TTL:P1W
BEGIN:VEVENT
UID:69e7c3acc77eb
DTSTART:20131002T024500Z
SEQUENCE:0
TRANSP:OPAQUE
DTEND:20131002T041500Z
URL:http://jmshockey.com/games/5425
LOCATION:St Louis Park Rec Center
SUMMARY:Level 4 Game at St Louis Park Rec Center
CLASS:PUBLIC
DTSTAMP:20260421T133628Z
END:VEVENT
END:VCALENDAR