BEGIN:VCALENDAR
VERSION:2.0
PRODID:JMS Hockey
X-PUBLISHED-TTL:P1W
BEGIN:VEVENT
UID:69e79a16100af
DTSTART:20131228T035000Z
SEQUENCE:0
TRANSP:OPAQUE
DTEND:20131228T052000Z
URL:http://jmshockey.com/games/5424
LOCATION:Schwan Superrink
SUMMARY:All level Game at Schwan Superrink
CLASS:PUBLIC
DTSTAMP:20260421T103902Z
END:VEVENT
END:VCALENDAR