BEGIN:VCALENDAR
VERSION:2.0
PRODID:JMS Hockey
X-PUBLISHED-TTL:P1W
BEGIN:VEVENT
UID:69e79a59f2f0e
DTSTART:20131221T031000Z
SEQUENCE:0
TRANSP:OPAQUE
DTEND:20131221T044000Z
URL:http://jmshockey.com/games/5422
LOCATION:Schwan Superrink
SUMMARY:All level Game at Schwan Superrink
CLASS:PUBLIC
DTSTAMP:20260421T104009Z
END:VEVENT
END:VCALENDAR