BEGIN:VCALENDAR
VERSION:2.0
PRODID:JMS Hockey
X-PUBLISHED-TTL:P1W
BEGIN:VEVENT
UID:69e7a30e5f298
DTSTART:20131005T013000Z
SEQUENCE:0
TRANSP:OPAQUE
DTEND:20131005T030000Z
URL:http://jmshockey.com/games/5408
LOCATION:Schwan Superrink
SUMMARY:All level Game at Schwan Superrink
CLASS:PUBLIC
DTSTAMP:20260421T111718Z
END:VEVENT
END:VCALENDAR