BEGIN:VCALENDAR
VERSION:2.0
PRODID:JMS Hockey
X-PUBLISHED-TTL:P1W
BEGIN:VEVENT
UID:69e7ada47fe21
DTSTART:20131004T024000Z
SEQUENCE:0
TRANSP:OPAQUE
DTEND:20131004T041000Z
URL:http://jmshockey.com/games/5407
LOCATION:Schwan Superrink
SUMMARY:Upper Level Game at Schwan Superrink
CLASS:PUBLIC
DTSTAMP:20260421T120228Z
END:VEVENT
END:VCALENDAR