BEGIN:VCALENDAR
VERSION:2.0
PRODID:JMS Hockey
X-PUBLISHED-TTL:P1W
BEGIN:VEVENT
UID:69e7c33e3931e
DTSTART:20130921T014500Z
SEQUENCE:0
TRANSP:OPAQUE
DTEND:20130921T031500Z
URL:http://jmshockey.com/games/5404
LOCATION:Schwan Superrink
SUMMARY:All level Game at Schwan Superrink
CLASS:PUBLIC
DTSTAMP:20260421T133438Z
END:VEVENT
END:VCALENDAR