BEGIN:VCALENDAR
VERSION:2.0
PRODID:JMS Hockey
X-PUBLISHED-TTL:P1W
BEGIN:VEVENT
UID:69e7c3cb65a30
DTSTART:20131211T033000Z
SEQUENCE:0
TRANSP:OPAQUE
DTEND:20131211T050000Z
URL:http://jmshockey.com/games/5396
LOCATION:Eden Prairie Comm Ctr
SUMMARY:Upper Level Game at Eden Prairie Comm Ctr
CLASS:PUBLIC
DTSTAMP:20260421T133659Z
END:VEVENT
END:VCALENDAR