BEGIN:VCALENDAR
VERSION:2.0
PRODID:JMS Hockey
X-PUBLISHED-TTL:P1W
BEGIN:VEVENT
UID:69e7e9fb69c7d
DTSTART:20131207T033000Z
SEQUENCE:0
TRANSP:OPAQUE
DTEND:20131207T050000Z
URL:http://jmshockey.com/games/5395
LOCATION:Eden Prairie Comm Ctr
SUMMARY:Intermediate Game at Eden Prairie Comm Ctr
CLASS:PUBLIC
DTSTAMP:20260421T161955Z
END:VEVENT
END:VCALENDAR