BEGIN:VCALENDAR
VERSION:2.0
PRODID:JMS Hockey
X-PUBLISHED-TTL:P1W
BEGIN:VEVENT
UID:69e7e70ab6348
DTSTART:20131116T034500Z
SEQUENCE:0
TRANSP:OPAQUE
DTEND:20131116T051500Z
URL:http://jmshockey.com/games/5390
LOCATION:Eden Prairie Comm Ctr
SUMMARY:Intermediate Game at Eden Prairie Comm Ctr
CLASS:PUBLIC
DTSTAMP:20260421T160722Z
END:VEVENT
END:VCALENDAR