BEGIN:VCALENDAR
VERSION:2.0
PRODID:JMS Hockey
X-PUBLISHED-TTL:P1W
BEGIN:VEVENT
UID:69e7c125034c1
DTSTART:20131023T021500Z
SEQUENCE:0
TRANSP:OPAQUE
DTEND:20131023T034500Z
URL:http://jmshockey.com/games/5383
LOCATION:Eden Prairie Comm Ctr
SUMMARY:Upper Level Game at Eden Prairie Comm Ctr
CLASS:PUBLIC
DTSTAMP:20260421T132541Z
END:VEVENT
END:VCALENDAR