BEGIN:VCALENDAR
VERSION:2.0
PRODID:JMS Hockey
X-PUBLISHED-TTL:P1W
BEGIN:VEVENT
UID:69e7a36e859ce
DTSTART:20130926T013000Z
SEQUENCE:0
TRANSP:OPAQUE
DTEND:20130926T030000Z
URL:http://jmshockey.com/games/5375
LOCATION:Burnsville Arena
SUMMARY:Lower Level Game at Burnsville Arena
CLASS:PUBLIC
DTSTAMP:20260421T111854Z
END:VEVENT
END:VCALENDAR