BEGIN:VCALENDAR
VERSION:2.0
PRODID:JMS Hockey
X-PUBLISHED-TTL:P1W
BEGIN:VEVENT
UID:69e7b58387bac
DTSTART:20130928T024500Z
SEQUENCE:0
TRANSP:OPAQUE
DTEND:20130928T041500Z
URL:http://jmshockey.com/games/5372
LOCATION:Roseville Skating Center
SUMMARY:Lower Level Game at Roseville Skating Center
CLASS:PUBLIC
DTSTAMP:20260421T123603Z
END:VEVENT
END:VCALENDAR