BEGIN:VCALENDAR
VERSION:2.0
PRODID:JMS Hockey
X-PUBLISHED-TTL:P1W
BEGIN:VEVENT
UID:69e79a3488862
DTSTART:20130921T024500Z
SEQUENCE:0
TRANSP:OPAQUE
DTEND:20130921T041500Z
URL:http://jmshockey.com/games/5371
LOCATION:Roseville Skating Center
SUMMARY:Lower Level Game at Roseville Skating Center
CLASS:PUBLIC
DTSTAMP:20260421T103932Z
END:VEVENT
END:VCALENDAR