BEGIN:VCALENDAR
VERSION:2.0
PRODID:JMS Hockey
X-PUBLISHED-TTL:P1W
BEGIN:VEVENT
UID:69e7b124c00cd
DTSTART:20130926T024000Z
SEQUENCE:0
TRANSP:OPAQUE
DTEND:20130926T041000Z
URL:http://jmshockey.com/games/5368
LOCATION:Hopkins Pavilion
SUMMARY:Elite Game at Hopkins Pavilion
CLASS:PUBLIC
DTSTAMP:20260421T121724Z
END:VEVENT
END:VCALENDAR